BEGIN:VCALENDAR
VERSION:2.0
PRODID:-//jEvents 2.0 for Joomla//EN
CALSCALE:GREGORIAN
METHOD:PUBLISH
BEGIN:VTIMEZONE
TZID:Europe/Stockholm
BEGIN:STANDARD
DTSTART:20160314T180000
RDATE:20160327T030000
TZOFFSETFROM:+0200
TZOFFSETTO:+0100
TZNAME:Europe/Stockholm CET
END:STANDARD
BEGIN:STANDARD
DTSTART:20161030T020000
RDATE:20170326T030000
TZOFFSETFROM:+0200
TZOFFSETTO:+0100
TZNAME:Europe/Stockholm CET
END:STANDARD
BEGIN:STANDARD
DTSTART:20171029T020000
RDATE:20180325T030000
TZOFFSETFROM:+0200
TZOFFSETTO:+0100
TZNAME:Europe/Stockholm CET
END:STANDARD
BEGIN:STANDARD
DTSTART:20181028T020000
RDATE:20190331T030000
TZOFFSETFROM:+0200
TZOFFSETTO:+0100
TZNAME:Europe/Stockholm CET
END:STANDARD
BEGIN:STANDARD
DTSTART:20191027T020000
RDATE:20200329T030000
TZOFFSETFROM:+0200
TZOFFSETTO:+0100
TZNAME:Europe/Stockholm CET
END:STANDARD
BEGIN:STANDARD
DTSTART:20201025T020000
RDATE:20210328T030000
TZOFFSETFROM:+0200
TZOFFSETTO:+0100
TZNAME:Europe/Stockholm CET
END:STANDARD
BEGIN:STANDARD
DTSTART:20211031T020000
RDATE:20220327T030000
TZOFFSETFROM:+0200
TZOFFSETTO:+0100
TZNAME:Europe/Stockholm CET
END:STANDARD
BEGIN:STANDARD
DTSTART:20221030T020000
RDATE:20230326T030000
TZOFFSETFROM:+0200
TZOFFSETTO:+0100
TZNAME:Europe/Stockholm CET
END:STANDARD
BEGIN:STANDARD
DTSTART:20231029T020000
RDATE:20240331T030000
TZOFFSETFROM:+0200
TZOFFSETTO:+0100
TZNAME:Europe/Stockholm CET
END:STANDARD
BEGIN:STANDARD
DTSTART:20241027T020000
RDATE:20250330T030000
TZOFFSETFROM:+0200
TZOFFSETTO:+0100
TZNAME:Europe/Stockholm CET
END:STANDARD
BEGIN:STANDARD
DTSTART:20251026T020000
RDATE:20260329T030000
TZOFFSETFROM:+0200
TZOFFSETTO:+0100
TZNAME:Europe/Stockholm CET
END:STANDARD
BEGIN:STANDARD
DTSTART:20261025T020000
RDATE:20270328T030000
TZOFFSETFROM:+0200
TZOFFSETTO:+0100
TZNAME:Europe/Stockholm CET
END:STANDARD
BEGIN:STANDARD
DTSTART:20271031T020000
RDATE:20280326T030000
TZOFFSETFROM:+0200
TZOFFSETTO:+0100
TZNAME:Europe/Stockholm CET
END:STANDARD
BEGIN:STANDARD
DTSTART:20281029T020000
RDATE:20290325T030000
TZOFFSETFROM:+0200
TZOFFSETTO:+0100
TZNAME:Europe/Stockholm CET
END:STANDARD
BEGIN:STANDARD
DTSTART:20291028T020000
RDATE:20300331T030000
TZOFFSETFROM:+0200
TZOFFSETTO:+0100
TZNAME:Europe/Stockholm CET
END:STANDARD
BEGIN:STANDARD
DTSTART:20301027T020000
RDATE:20310330T030000
TZOFFSETFROM:+0200
TZOFFSETTO:+0100
TZNAME:Europe/Stockholm CET
END:STANDARD
BEGIN:DAYLIGHT
DTSTART:20160327T030000
RDATE:20161030T020000
TZOFFSETFROM:+0100
TZOFFSETTO:+0200
TZNAME:Europe/Stockholm CEST
END:DAYLIGHT
BEGIN:DAYLIGHT
DTSTART:20170326T030000
RDATE:20171029T020000
TZOFFSETFROM:+0100
TZOFFSETTO:+0200
TZNAME:Europe/Stockholm CEST
END:DAYLIGHT
BEGIN:DAYLIGHT
DTSTART:20180325T030000
RDATE:20181028T020000
TZOFFSETFROM:+0100
TZOFFSETTO:+0200
TZNAME:Europe/Stockholm CEST
END:DAYLIGHT
BEGIN:DAYLIGHT
DTSTART:20190331T030000
RDATE:20191027T020000
TZOFFSETFROM:+0100
TZOFFSETTO:+0200
TZNAME:Europe/Stockholm CEST
END:DAYLIGHT
BEGIN:DAYLIGHT
DTSTART:20200329T030000
RDATE:20201025T020000
TZOFFSETFROM:+0100
TZOFFSETTO:+0200
TZNAME:Europe/Stockholm CEST
END:DAYLIGHT
BEGIN:DAYLIGHT
DTSTART:20210328T030000
RDATE:20211031T020000
TZOFFSETFROM:+0100
TZOFFSETTO:+0200
TZNAME:Europe/Stockholm CEST
END:DAYLIGHT
BEGIN:DAYLIGHT
DTSTART:20220327T030000
RDATE:20221030T020000
TZOFFSETFROM:+0100
TZOFFSETTO:+0200
TZNAME:Europe/Stockholm CEST
END:DAYLIGHT
BEGIN:DAYLIGHT
DTSTART:20230326T030000
RDATE:20231029T020000
TZOFFSETFROM:+0100
TZOFFSETTO:+0200
TZNAME:Europe/Stockholm CEST
END:DAYLIGHT
BEGIN:DAYLIGHT
DTSTART:20240331T030000
RDATE:20241027T020000
TZOFFSETFROM:+0100
TZOFFSETTO:+0200
TZNAME:Europe/Stockholm CEST
END:DAYLIGHT
BEGIN:DAYLIGHT
DTSTART:20250330T030000
RDATE:20251026T020000
TZOFFSETFROM:+0100
TZOFFSETTO:+0200
TZNAME:Europe/Stockholm CEST
END:DAYLIGHT
BEGIN:DAYLIGHT
DTSTART:20260329T030000
RDATE:20261025T020000
TZOFFSETFROM:+0100
TZOFFSETTO:+0200
TZNAME:Europe/Stockholm CEST
END:DAYLIGHT
BEGIN:DAYLIGHT
DTSTART:20270328T030000
RDATE:20271031T020000
TZOFFSETFROM:+0100
TZOFFSETTO:+0200
TZNAME:Europe/Stockholm CEST
END:DAYLIGHT
BEGIN:DAYLIGHT
DTSTART:20280326T030000
RDATE:20281029T020000
TZOFFSETFROM:+0100
TZOFFSETTO:+0200
TZNAME:Europe/Stockholm CEST
END:DAYLIGHT
BEGIN:DAYLIGHT
DTSTART:20290325T030000
RDATE:20291028T020000
TZOFFSETFROM:+0100
TZOFFSETTO:+0200
TZNAME:Europe/Stockholm CEST
END:DAYLIGHT
BEGIN:DAYLIGHT
DTSTART:20300331T030000
RDATE:20301027T020000
TZOFFSETFROM:+0100
TZOFFSETTO:+0200
TZNAME:Europe/Stockholm CEST
END:DAYLIGHT
END:VTIMEZONE
BEGIN:VEVENT
UID:d0475abef378b415969c5a780095722d
CATEGORIES:IF-båtförbundet
CREATED:20170128T114815
SUMMARY:IF-båten 50 år - Seglare minns
LOCATION:Tranebergsstugan\, Tranebergsslingan 2 165 47 STOCKHOLM
URL;VALUE=URI:https://www.ifboat.se/kalender/icalrepeat.detail/2017/03/15/20/-/if-baten-5
 0-ar-seglare-minns?tmpl=component
DESCRIPTION:Svenska Seglarförbundets Historiska Utskott bjuder in till SEGLARE MINNS nr
  42 \nOnsdag 15 mars 2017 kl 18.00 i Tranebergsstugan Kvällens ämne IF båte
 n 50 år, där bland andra Sture Sunden och flera andra intervjuas om båten o
 ch seglingar \nKvällens samtalsledare är Nils Virving\nVi äter tillsammans 
 och efter middagen får vi höra Nils samtala med våra gäster.\nFörhandsanmäl
 an är obligatorisk och bindande för att vi ska kunna planera och genomföra 
 kvällen. Anmäl till Seglarförbundets kansli via mejl (Den här e-postadresse
 n skyddas mot spambots. Du måste tillåta JavaScript för att se den.) allra 
 senast måndag 13 mars 2017. Har du frågor ring Åsa på tel nr 08-459 09 93.\
 nKostnaden, inklusive delikat middag i Tranebergsstugan 200 kronor, betalas
  kontant vid ankomsten till T-stugan.\nVälkomna till kvällens Seglare Minns
 , som är vår 42:e träff med seglarlegender.\nHistoriska Utskottet \ngenom N
 ils Virving\nFör dem som ännu ej hunnit skaffa boken Seglare Minns (första 
 delen) har möjlighet att köpa den under kvällen för 200 kronor (kontant bet
 alning).\n \n \n This event was imported from: https://www.ifboat.se/kalend
 er/icalrepeat.detail/2017/03/15/20/-/if-baten-50-ar-seglare-minns?tmpl=comp
 onent
X-ALT-DESC;FMTTYPE=text/html:<p><strong><span style="font-family: 'Calibri',sans-serif;">Svenska Seglarf
 örbundets Historiska Utskott bjuder in till SEGLARE MINNS nr 42 </span></st
 rong></p><p><strong><span style="font-family: 'Calibri',sans-serif;">Onsdag
  15 mars 2017 kl 18.00 i Tranebergsstugan Kvällens ämne IF båten 50 år, där
  bland andra Sture Sunden och flera andra intervjuas om båten och seglingar
  </span></strong></p><p class="default">Kvällens samtalsledare är Nils Virv
 ing</p><p class="default">Vi äter tillsammans och efter middagen får vi hör
 a Nils samtala med våra gäster.</p><p class="default">Förhandsanmälan är <b
 >obligatorisk </b>och bindande för att vi ska kunna planera och genomföra k
 vällen. <span style="text-decoration: underline;">Anmäl till Seglarförbunde
 ts kansli via mejl (<joomla-hidden-mail  is-link="1" is-email="1" first="YX
 Nh" last="c3NmLnNl" text="YXNhQHNzZi5zZQ==" base="" >Den här e-postadressen
  skyddas mot spambots. Du måste tillåta JavaScript för att se den.</joomla-
 hidden-mail>)</span> allra senast måndag 13 mars 2017. Har du frågor ring Å
 sa på tel nr 08-459 09 93.</p><p class="default">Kostnaden, inklusive delik
 at middag i Tranebergsstugan 200 kronor, betalas kontant vid ankomsten till
  T-stugan.</p><p class="default">Välkomna till kvällens Seglare Minns, som 
 är vår 42:e träff med seglarlegender.</p><p class="default">Historiska Utsk
 ottet <br />genom Nils Virving</p><p class="default">För dem som ännu ej hu
 nnit skaffa boken Seglare Minns (första delen) har möjlighet att köpa den u
 nder kvällen för 200 kronor (kontant betalning).</p><p> </p><p> </p> <a hre
 f="https://www.ifboat.se/kalender/icalrepeat.detail/2017/03/15/20/-/if-bate
 n-50-ar-seglare-minns?tmpl=component">This event was imported from: https:/
 /www.ifboat.se/kalender/icalrepeat.detail/2017/03/15/20/-/if-baten-50-ar-se
 glare-minns?tmpl=component</a>CONTACT:OBS; Anmälan skickas till Seglarförbundet, Åsa Blomqvist: Den här e-postadressen skyddas mot spambots. Du måste tillåta JavaScript för att se den.
X-EXTRAINFO:http://www.svensksegling.se/Nyheter/Startsidesnyheter/2017Q1/Seglareminnsnr
 42/
DTSTAMP:20260424T225832
DTSTART;TZID=Europe/Stockholm:20170315T180000
DTEND;TZID=Europe/Stockholm:20170315T220000
SEQUENCE:0
TRANSP:OPAQUE
END:VEVENT
END:VCALENDAR